{
 "currentVersion": 11.1,
 "cimVersion": "3.1.0",
 "serviceDescription": "",
 "mapName": "Skills and Eduction",
 "description": "",
 "copyrightText": "",
 "supportsDynamicLayers": true,
 "layers": [
  {
   "id": 0,
   "name": "Map Extent Selection",
   "parentLayerId": -1,
   "defaultVisibility": true,
   "subLayerIds": null,
   "minScale": 0,
   "maxScale": 0,
   "type": "Feature Layer",
   "geometryType": "esriGeometryPolygon",
   "supportsDynamicLegends": true
  },
  {
   "id": 1,
   "name": "Skills and Eduction Indicator",
   "parentLayerId": -1,
   "defaultVisibility": true,
   "subLayerIds": null,
   "minScale": 0,
   "maxScale": 0,
   "type": "Feature Layer",
   "geometryType": "esriGeometryPolygon",
   "supportsDynamicLegends": true
  }
 ],
 "tables": [],
 "spatialReference": {
  "wkid": 27700,
  "latestWkid": 27700,
  "xyTolerance": 0.001,
  "zTolerance": 0.001,
  "mTolerance": 0.001,
  "falseX": -5220400,
  "falseY": -15524400,
  "xyUnits": 10000,
  "falseZ": -100000,
  "zUnits": 10000,
  "falseM": -100000,
  "mUnits": 10000
 },
 "singleFusedMapCache": true,
 "tileInfo": {
  "rows": 256,
  "cols": 256,
  "dpi": 96,
  "format": "PNG",
  "compressionQuality": 0,
  "origin": {
   "x": -9597137.348713825,
   "y": 4470073.533885086
  },
  "spatialReference": {
   "wkid": 27700,
   "latestWkid": 27700,
   "xyTolerance": 0.001,
   "zTolerance": 0.001,
   "mTolerance": 0.001,
   "falseX": -5220400,
   "falseY": -15524400,
   "xyUnits": 10000,
   "falseZ": -100000,
   "zUnits": 10000,
   "falseM": -100000,
   "mUnits": 10000
  },
  "lods": [
   {
    "level": 0,
    "resolution": 78102.63553682675,
    "scale": 2.9519106344627434E8
   },
   {
    "level": 1,
    "resolution": 39051.31776841338,
    "scale": 1.4759553172313717E8
   },
   {
    "level": 2,
    "resolution": 19525.65888420669,
    "scale": 7.379776586156859E7
   },
   {
    "level": 3,
    "resolution": 9762.829442103344,
    "scale": 3.689888293078429E7
   },
   {
    "level": 4,
    "resolution": 4881.414721051672,
    "scale": 1.8449441465392146E7
   },
   {
    "level": 5,
    "resolution": 2440.707360525836,
    "scale": 9224720.732696073
   },
   {
    "level": 6,
    "resolution": 1220.353680262918,
    "scale": 4612360.366348037
   },
   {
    "level": 7,
    "resolution": 610.176840131459,
    "scale": 2306180.1831740183
   },
   {
    "level": 8,
    "resolution": 305.0884200657295,
    "scale": 1153090.0915870091
   },
   {
    "level": 9,
    "resolution": 152.54421003286475,
    "scale": 576545.0457935046
   },
   {
    "level": 10,
    "resolution": 76.27210501643238,
    "scale": 288272.5228967523
   },
   {
    "level": 11,
    "resolution": 38.13605250821619,
    "scale": 144136.26144837614
   },
   {
    "level": 12,
    "resolution": 19.068026254108094,
    "scale": 72068.13072418807
   },
   {
    "level": 13,
    "resolution": 9.534013127054047,
    "scale": 36034.065362094036
   },
   {
    "level": 14,
    "resolution": 4.767006563527024,
    "scale": 18017.032681047018
   },
   {
    "level": 15,
    "resolution": 2.383503281763512,
    "scale": 9008.516340523509
   },
   {
    "level": 16,
    "resolution": 1.191751640881756,
    "scale": 4504.2581702617545
   },
   {
    "level": 17,
    "resolution": 0.595875820440878,
    "scale": 2252.1290851308772
   },
   {
    "level": 18,
    "resolution": 0.297937910220439,
    "scale": 1126.0645425654386
   }
  ]
 },
 "storageInfo": {
  "storageFormat": "esriMapCacheStorageModeCompactV2",
  "packetSize": 128
 },
 "initialExtent": {
  "xmin": 498700.68330304866,
  "ymin": 153347.75496988808,
  "xmax": 566821.5080969512,
  "ymax": 203436.59673011053,
  "spatialReference": {
   "wkid": 27700,
   "latestWkid": 27700,
   "xyTolerance": 0.001,
   "zTolerance": 0.001,
   "mTolerance": 0.001,
   "falseX": -5220400,
   "falseY": -15524400,
   "xyUnits": 10000,
   "falseZ": -100000,
   "zUnits": 10000,
   "falseM": -100000,
   "mUnits": 10000
  }
 },
 "fullExtent": {
  "xmin": 503566.76630000025,
  "ymin": 155850.81719999947,
  "xmax": 561955.4250999996,
  "ymax": 200933.53449999914,
  "spatialReference": {
   "wkid": 27700,
   "latestWkid": 27700,
   "xyTolerance": 0.001,
   "zTolerance": 0.001,
   "mTolerance": 0.001,
   "falseX": -5220400,
   "falseY": -15524400,
   "xyUnits": 10000,
   "falseZ": -100000,
   "zUnits": 10000,
   "falseM": -100000,
   "mUnits": 10000
  }
 },
 "datesInUnknownTimezone": false,
 "minScale": 576545.0457935046,
 "maxScale": 9008.516340523509,
 "minLOD": 9,
 "maxLOD": 15,
 "units": "esriMeters",
 "supportedImageFormatTypes": "PNG32,PNG24,PNG,JPG,DIB,TIFF,EMF,PS,PDF,GIF,SVG,SVGZ,BMP",
 "documentInfo": {
  "Title": "Map",
  "Author": "",
  "Comments": "",
  "Subject": "",
  "Category": "",
  "Version": "3.1.0",
  "AntialiasingMode": "Fast",
  "TextAntialiasingMode": "Force",
  "Keywords": "BDE_Skills_and_Eduction"
 },
 "capabilities": "Map,Query,Data",
 "supportedQueryFormats": "JSON, geoJSON, PBF",
 "exportTilesAllowed": false,
 "referenceScale": 0.0,
 "datumTransformations": [
  {
   "geoTransforms": [
    {
     "wkid": 1149,
     "latestWkid": 1149,
     "transformForward": false,
     "name": "ETRS_1989_To_WGS_1984"
    },
    {
     "wkid": 5338,
     "latestWkid": 5338,
     "transformForward": false,
     "name": "OSGB_1936_To_ETRS_1989_1"
    }
   ]
  },
  {
   "geoTransforms": [
    {
     "wkid": 5338,
     "latestWkid": 5338,
     "transformForward": true,
     "name": "OSGB_1936_To_ETRS_1989_1"
    },
    {
     "wkid": 1149,
     "latestWkid": 1149,
     "transformForward": true,
     "name": "ETRS_1989_To_WGS_1984"
    }
   ]
  }
 ],
 "supportsDatumTransformation": true,
 "archivingInfo": {
  "supportsHistoricMoment": false
 },
 "supportsClipping": true,
 "supportsSpatialFilter": true,
 "supportsTimeRelation": true,
 "supportsQueryDataElements": true,
 "mapUnits": {
  "uwkid": 9001
 },
 "maxRecordCount": 2000,
 "maxImageHeight": 4096,
 "maxImageWidth": 4096,
 "supportedExtensions": "FeatureServer"
}
